BEGIN:VCALENDAR
VERSION:2.0
PRODID:-//Hingham Anchor - ECPv6.15.15//NONSGML v1.0//EN
CALSCALE:GREGORIAN
METHOD:PUBLISH
X-ORIGINAL-URL:https://www.hinghamanchor.com
X-WR-CALDESC:Events for Hingham Anchor
REFRESH-INTERVAL;VALUE=DURATION:PT1H
X-Robots-Tag:noindex
X-PUBLISHED-TTL:PT1H
BEGIN:VTIMEZONE
TZID:America/New_York
BEGIN:DAYLIGHT
TZOFFSETFROM:-0500
TZOFFSETTO:-0400
TZNAME:EDT
DTSTART:20250309T070000
END:DAYLIGHT
BEGIN:STANDARD
TZOFFSETFROM:-0400
TZOFFSETTO:-0500
TZNAME:EST
DTSTART:20251102T060000
END:STANDARD
BEGIN:DAYLIGHT
TZOFFSETFROM:-0500
TZOFFSETTO:-0400
TZNAME:EDT
DTSTART:20260308T070000
END:DAYLIGHT
BEGIN:STANDARD
TZOFFSETFROM:-0400
TZOFFSETTO:-0500
TZNAME:EST
DTSTART:20261101T060000
END:STANDARD
BEGIN:DAYLIGHT
TZOFFSETFROM:-0500
TZOFFSETTO:-0400
TZNAME:EDT
DTSTART:20270314T070000
END:DAYLIGHT
BEGIN:STANDARD
TZOFFSETFROM:-0400
TZOFFSETTO:-0500
TZNAME:EST
DTSTART:20271107T060000
END:STANDARD
END:VTIMEZONE
BEGIN:VEVENT
DTSTART;TZID=America/New_York:20260125T150000
DTEND;TZID=America/New_York:20260125T150000
DTSTAMP:20260424T143517
CREATED:20250902T180320Z
LAST-MODIFIED:20250902T181726Z
UID:66834-1769353200-1769353200@www.hinghamanchor.com
SUMMARY:From Hingham to the Americas: New Perspectives on the 18th Century at the MFA
DESCRIPTION:Join us on January 25 at 3:00pm for our 2025/2026 lecture series\, “Revisiting the American Revolution: Part II.” \nCoinciding with the 250th anniversary of American Independence\, the Museum of Fine Arts\, Boston is reimagining its 18th-century galleries of the Art of the Americas Wing for the first time since 2010. This major reinstallation brings together works from across the Americas\, highlighting the interconnected histories of the continent and examining how artists have contributed to emerging ideas of identity and nationhood. \nAbout the Speaker\nLucía Abramovich Sánchez is the Carolyn and Peter Lynch Associate Curator of American Decorative Arts and Sculpture at the Museum of Fine Arts\, Boston\, where she works with a wide range of artwork that includes decorative arts and sculpture from North America and Latin America\, spanning over 3\,000 years of history. Dr. Abramovich Sánchez holds a B.A. from the College of William & Mary\, M.A. from the Sainsbury Research Unit at the University of East Anglia\, and Ph.D. from the Latin American Studies & Art History joint doctoral program at Tulane University \nAbout the Hingham Historical Lecture Series\nThe Hingham Historical Society Lecture Series captivates audiences with bold ideas\, compelling stories\, and fresh perspectives on the people and forces that shaped Hingham’s layered past. Hosted live at the Hingham Heritage Museum and streamed for remote access\, these dynamic talks bring scholars and authors face-to-face with the community. With topics spanning centuries and voices that challenge conventional narratives\, each lecture takes subscribers beyond the sources\, offering new insights\, spirited dialogue\, and a deeper appreciation for local history within a national context. \nThe Hingham Historical Society Lecture Series is presented live in person and via ZOOM. For more information and to subscribe to the lecture series\, visit www.hinghamhistorical.org.
URL:https://www.hinghamanchor.com/event/from-hingham-to-the-americas-new-perspectives-on-the-18th-century-at-the-mfa/
LOCATION:Hingham Heritage Museum
END:VEVENT
END:VCALENDAR