BEGIN:VCALENDAR
VERSION:2.0
PRODID:-//Hingham Anchor - ECPv6.15.15//NONSGML v1.0//EN
CALSCALE:GREGORIAN
METHOD:PUBLISH
X-ORIGINAL-URL:https://www.hinghamanchor.com
X-WR-CALDESC:Events for Hingham Anchor
REFRESH-INTERVAL;VALUE=DURATION:PT1H
X-Robots-Tag:noindex
X-PUBLISHED-TTL:PT1H
BEGIN:VTIMEZONE
TZID:America/New_York
BEGIN:DAYLIGHT
TZOFFSETFROM:-0500
TZOFFSETTO:-0400
TZNAME:EDT
DTSTART:20240310T070000
END:DAYLIGHT
BEGIN:STANDARD
TZOFFSETFROM:-0400
TZOFFSETTO:-0500
TZNAME:EST
DTSTART:20241103T060000
END:STANDARD
BEGIN:DAYLIGHT
TZOFFSETFROM:-0500
TZOFFSETTO:-0400
TZNAME:EDT
DTSTART:20250309T070000
END:DAYLIGHT
BEGIN:STANDARD
TZOFFSETFROM:-0400
TZOFFSETTO:-0500
TZNAME:EST
DTSTART:20251102T060000
END:STANDARD
BEGIN:DAYLIGHT
TZOFFSETFROM:-0500
TZOFFSETTO:-0400
TZNAME:EDT
DTSTART:20260308T070000
END:DAYLIGHT
BEGIN:STANDARD
TZOFFSETFROM:-0400
TZOFFSETTO:-0500
TZNAME:EST
DTSTART:20261101T060000
END:STANDARD
END:VTIMEZONE
BEGIN:VEVENT
DTSTART;TZID=America/New_York:20251004T090000
DTEND;TZID=America/New_York:20251004T110000
DTSTAMP:20260424T090212
CREATED:20250917T190645Z
LAST-MODIFIED:20250917T190645Z
UID:67129-1759568400-1759575600@www.hinghamanchor.com
SUMMARY:Derby Academy Fall Admission Sneak Peek
DESCRIPTION:Prospective parents/caregivers and students—please join us for a casual tour of campus and then be our guest at the Derby Fair immediately following the tour! \nComplimentary wristbands for rides and games will be provided to our tour attendees. \n(Rain Date: October 5)
URL:https://www.hinghamanchor.com/event/derby-academy-fall-admission-sneak-peek/
END:VEVENT
BEGIN:VEVENT
DTSTART;TZID=America/New_York:20250705T090000
DTEND;TZID=America/New_York:20250705T130000
DTSTAMP:20260424T090212
CREATED:20250630T140637Z
LAST-MODIFIED:20250630T140637Z
UID:65875-1751706000-1751720400@www.hinghamanchor.com
SUMMARY:Hingham Farmers Market
DESCRIPTION:Open for 9 to 1\, every Saturday until November 22\, Hingham Farmers Market has locally grown produce and creative foods products. Various artistic vendors with professionally handmade crafts provide some variety to the market each week.
URL:https://www.hinghamanchor.com/event/hingham-farmers-market-2/
LOCATION:95 Station St\, Hingham\, MA
END:VEVENT
BEGIN:VEVENT
DTSTART;TZID=America/New_York:20251004T110000
DTEND;TZID=America/New_York:20251004T160000
DTSTAMP:20260424T090212
CREATED:20250917T192603Z
LAST-MODIFIED:20250917T192603Z
UID:67135-1759575600-1759593600@www.hinghamanchor.com
SUMMARY:Derby Academy FALL FAIR
DESCRIPTION:Join us for one of Derby’s biggest community events of the year! Enjoy games\, rides\, arts & crafts\, and food trucks! There is something fun for the whole family. \n*This event is open to the public—bring friends and family!  \nRain Date: Sunday\, October 5 \nMore information HERE
URL:https://www.hinghamanchor.com/event/derby-academy-fall-fair/
LOCATION:Derby Academy
END:VEVENT
BEGIN:VEVENT
DTSTART;TZID=America/New_York:20250705T090000
DTEND;TZID=America/New_York:20250705T130000
DTSTAMP:20260424T090212
CREATED:20250630T140637Z
LAST-MODIFIED:20250630T140637Z
UID:65875-1751706000-1751720400@www.hinghamanchor.com
SUMMARY:Hingham Farmers Market
DESCRIPTION:Open for 9 to 1\, every Saturday until November 22\, Hingham Farmers Market has locally grown produce and creative foods products. Various artistic vendors with professionally handmade crafts provide some variety to the market each week.
URL:https://www.hinghamanchor.com/event/hingham-farmers-market-2/
LOCATION:95 Station St\, Hingham\, MA
END:VEVENT
BEGIN:VEVENT
DTSTART;TZID=America/New_York:20251011T100000
DTEND;TZID=America/New_York:20251011T160000
DTSTAMP:20260424T090212
CREATED:20251008T170150Z
LAST-MODIFIED:20251008T170253Z
UID:67603-1760176800-1760198400@www.hinghamanchor.com
SUMMARY:Documentary Producing & Storytelling Workshop at Harbor Media
DESCRIPTION:John Rice\, Executive Writer/Producer/Director with experience creating cable and broadcast series and specials for PBS\, ABC\, Fox\, CBS\, HGTV\, and more. \nRyan Fitch\, videographer\, drone pilot and editor\, regionally and nationally recognized for creating award-winning programming. \nIn this hands-on\, two-day workshop\, you’ll learn producing\, scripting\, interviewing\, camera and editing to take your idea from concept to final cut. \nYou’ll have the skills to create a compelling documentary ready to air on Harbor Media channels and beyond. \nWhether you’re new to filmmaking or looking to sharpen your craft\, this workshop is your backstage pass to producing powerful visual stories. \n\nTwo immersive sessions on October 11th & 25th at 10 AM to 4 PM at Harbor Media’s Studio\nDesigned for individuals 16 years and above.\nLearn real-world skills from concept to distribution\nCollaborate\, create\, and refine your voice as a documentary producer\nClass Fee: $200\nLimited spots available – click below to enroll!\n\nhttps://mail.google.com/mail/u/0/#inbox/FMfcgzQcpwvDFHrmZpCdgcVbmTQPRrhT
URL:https://www.hinghamanchor.com/event/documentary-producing-storytelling-workshop-at-harbor-media/
LOCATION:Harbor Media’s Studio
END:VEVENT
BEGIN:VEVENT
DTSTART;TZID=America/New_York:20250705T090000
DTEND;TZID=America/New_York:20250705T130000
DTSTAMP:20260424T090212
CREATED:20250630T140637Z
LAST-MODIFIED:20250630T140637Z
UID:65875-1751706000-1751720400@www.hinghamanchor.com
SUMMARY:Hingham Farmers Market
DESCRIPTION:Open for 9 to 1\, every Saturday until November 22\, Hingham Farmers Market has locally grown produce and creative foods products. Various artistic vendors with professionally handmade crafts provide some variety to the market each week.
URL:https://www.hinghamanchor.com/event/hingham-farmers-market-2/
LOCATION:95 Station St\, Hingham\, MA
END:VEVENT
BEGIN:VEVENT
DTSTART;TZID=America/New_York:20251018T140000
DTEND;TZID=America/New_York:20251018T140000
DTSTAMP:20260424T090212
CREATED:20250915T205228Z
LAST-MODIFIED:20250915T205454Z
UID:67076-1760796000-1760796000@www.hinghamanchor.com
SUMMARY:The American Big Band Experience
DESCRIPTION:Come for the family-friendly activities\, stay for the unforgettable music! \nSouth Shore Conservatory (SSC) invites you to step back in time and experience the golden era of swing with Dan Gabel and his Orchestra! This 18-piece authentic jazz big band\, complete with award-winning vocalists Kimberley Hawkey and Dan Gabel\, brings to life the timeless music of legends such as Glenn Miller\, Artie Shaw\, Count Basie\, Duke Ellington\, Benny Goodman\, and Tommy Dorsey. \nJoin us for an afternoon of more than just great music — enjoy delicious offerings from local food trucks\, fun activities for all ages\, and the joy of gathering in the crisp autumn air. A perfect way to celebrate the season at SSC! Tickets at https://give.sscmusic.org/the-american-big-band-experience.
URL:https://www.hinghamanchor.com/event/the-american-big-band-experience/
LOCATION:Carr Amphitheater\, South Shore Conservatory\, One Conservatory Drive\, Hingham\, MA 02043
ATTACH;FMTTYPE=image/jpeg:https://www.hinghamanchor.com/wp-content/uploads/2025/09/Big-Band-resize.jpg
END:VEVENT
BEGIN:VEVENT
DTSTART;TZID=America/New_York:20251019T113000
DTEND;TZID=America/New_York:20251019T113000
DTSTAMP:20260424T090212
CREATED:20251007T160733Z
LAST-MODIFIED:20251007T160756Z
UID:67545-1760873400-1760873400@www.hinghamanchor.com
SUMMARY:Guided Bare Cove Walk
DESCRIPTION:We are inviting the public to join us for a community walk through Bare Cove Park. Meet at parking area at 52 Bare Cove Park Drive\, Hingham\, MA 02043.
URL:https://www.hinghamanchor.com/event/guided-bare-cove-walk/
LOCATION:Bare Cove Park
END:VEVENT
BEGIN:VEVENT
DTSTART;TZID=America/New_York:20251021T103000
DTEND;TZID=America/New_York:20251021T103000
DTSTAMP:20260424T090212
CREATED:20251015T144014Z
LAST-MODIFIED:20251015T144115Z
UID:67739-1761042600-1761042600@www.hinghamanchor.com
SUMMARY:Churchill's Secret Armies of WWII Presentation
DESCRIPTION:Submitted by David Barrett \nI will be presenting at the Hingham Library this two part series explaining how\, with Churchills support\, the British efforts at destroying the Nazi tyranny of WWII resulted in the victory of the Allies in 1945. In particular\, I will examine the formation of a very secret organization\, the Special Operations Executive (SOE) and some examples of specific operations that took place in occupied Europe. The presentation will be at 10.30am on both October 21st and 22nd in the Whiton Room. \nThis follows my presentation two years ago of Britains War which was also at the Hingham Library
URL:https://www.hinghamanchor.com/event/churchills-secret-armies-of-wwii-presentation/
LOCATION:Hingham Public Library\, Whiton Room
END:VEVENT
BEGIN:VEVENT
DTSTART;TZID=America/New_York:20251021T103000
DTEND;TZID=America/New_York:20251021T103000
DTSTAMP:20260424T090212
CREATED:20251015T144014Z
LAST-MODIFIED:20251015T144115Z
UID:67739-1761042600-1761042600@www.hinghamanchor.com
SUMMARY:Churchill's Secret Armies of WWII Presentation
DESCRIPTION:Submitted by David Barrett \nI will be presenting at the Hingham Library this two part series explaining how\, with Churchills support\, the British efforts at destroying the Nazi tyranny of WWII resulted in the victory of the Allies in 1945. In particular\, I will examine the formation of a very secret organization\, the Special Operations Executive (SOE) and some examples of specific operations that took place in occupied Europe. The presentation will be at 10.30am on both October 21st and 22nd in the Whiton Room. \nThis follows my presentation two years ago of Britains War which was also at the Hingham Library
URL:https://www.hinghamanchor.com/event/churchills-secret-armies-of-wwii-presentation/
LOCATION:Hingham Public Library\, Whiton Room
END:VEVENT
BEGIN:VEVENT
DTSTART;TZID=America/New_York:20250705T090000
DTEND;TZID=America/New_York:20250705T130000
DTSTAMP:20260424T090212
CREATED:20250630T140637Z
LAST-MODIFIED:20250630T140637Z
UID:65875-1751706000-1751720400@www.hinghamanchor.com
SUMMARY:Hingham Farmers Market
DESCRIPTION:Open for 9 to 1\, every Saturday until November 22\, Hingham Farmers Market has locally grown produce and creative foods products. Various artistic vendors with professionally handmade crafts provide some variety to the market each week.
URL:https://www.hinghamanchor.com/event/hingham-farmers-market-2/
LOCATION:95 Station St\, Hingham\, MA
END:VEVENT
BEGIN:VEVENT
DTSTART;TZID=America/New_York:20251011T100000
DTEND;TZID=America/New_York:20251011T160000
DTSTAMP:20260424T090212
CREATED:20251008T170150Z
LAST-MODIFIED:20251008T170253Z
UID:67603-1760176800-1760198400@www.hinghamanchor.com
SUMMARY:Documentary Producing & Storytelling Workshop at Harbor Media
DESCRIPTION:John Rice\, Executive Writer/Producer/Director with experience creating cable and broadcast series and specials for PBS\, ABC\, Fox\, CBS\, HGTV\, and more. \nRyan Fitch\, videographer\, drone pilot and editor\, regionally and nationally recognized for creating award-winning programming. \nIn this hands-on\, two-day workshop\, you’ll learn producing\, scripting\, interviewing\, camera and editing to take your idea from concept to final cut. \nYou’ll have the skills to create a compelling documentary ready to air on Harbor Media channels and beyond. \nWhether you’re new to filmmaking or looking to sharpen your craft\, this workshop is your backstage pass to producing powerful visual stories. \n\nTwo immersive sessions on October 11th & 25th at 10 AM to 4 PM at Harbor Media’s Studio\nDesigned for individuals 16 years and above.\nLearn real-world skills from concept to distribution\nCollaborate\, create\, and refine your voice as a documentary producer\nClass Fee: $200\nLimited spots available – click below to enroll!\n\nhttps://mail.google.com/mail/u/0/#inbox/FMfcgzQcpwvDFHrmZpCdgcVbmTQPRrhT
URL:https://www.hinghamanchor.com/event/documentary-producing-storytelling-workshop-at-harbor-media/
LOCATION:Harbor Media’s Studio
END:VEVENT
END:VCALENDAR