BEGIN:VCALENDAR
VERSION:2.0
PRODID:-//Hingham Anchor - ECPv6.15.15//NONSGML v1.0//EN
CALSCALE:GREGORIAN
METHOD:PUBLISH
X-WR-CALNAME:Hingham Anchor
X-ORIGINAL-URL:https://www.hinghamanchor.com
X-WR-CALDESC:Events for Hingham Anchor
REFRESH-INTERVAL;VALUE=DURATION:PT1H
X-Robots-Tag:noindex
X-PUBLISHED-TTL:PT1H
BEGIN:VTIMEZONE
TZID:America/New_York
BEGIN:DAYLIGHT
TZOFFSETFROM:-0500
TZOFFSETTO:-0400
TZNAME:EDT
DTSTART:20240310T070000
END:DAYLIGHT
BEGIN:STANDARD
TZOFFSETFROM:-0400
TZOFFSETTO:-0500
TZNAME:EST
DTSTART:20241103T060000
END:STANDARD
BEGIN:DAYLIGHT
TZOFFSETFROM:-0500
TZOFFSETTO:-0400
TZNAME:EDT
DTSTART:20250309T070000
END:DAYLIGHT
BEGIN:STANDARD
TZOFFSETFROM:-0400
TZOFFSETTO:-0500
TZNAME:EST
DTSTART:20251102T060000
END:STANDARD
BEGIN:DAYLIGHT
TZOFFSETFROM:-0500
TZOFFSETTO:-0400
TZNAME:EDT
DTSTART:20260308T070000
END:DAYLIGHT
BEGIN:STANDARD
TZOFFSETFROM:-0400
TZOFFSETTO:-0500
TZNAME:EST
DTSTART:20261101T060000
END:STANDARD
END:VTIMEZONE
BEGIN:VEVENT
DTSTART;TZID=America/New_York:20250705T090000
DTEND;TZID=America/New_York:20250705T130000
DTSTAMP:20260424T044458
CREATED:20250630T140637Z
LAST-MODIFIED:20250630T140637Z
UID:65875-1751706000-1751720400@www.hinghamanchor.com
SUMMARY:Hingham Farmers Market
DESCRIPTION:Open for 9 to 1\, every Saturday until November 22\, Hingham Farmers Market has locally grown produce and creative foods products. Various artistic vendors with professionally handmade crafts provide some variety to the market each week.
URL:https://www.hinghamanchor.com/event/hingham-farmers-market-2/
LOCATION:95 Station St\, Hingham\, MA
END:VEVENT
BEGIN:VEVENT
DTSTART;TZID=America/New_York:20250802T190000
DTEND;TZID=America/New_York:20250802T230000
DTSTAMP:20260424T044458
CREATED:20250507T134903Z
LAST-MODIFIED:20250507T134903Z
UID:64984-1754161200-1754175600@www.hinghamanchor.com
SUMMARY:Hingham High School Class of 1980 45th Reunion
DESCRIPTION:
URL:https://www.hinghamanchor.com/event/hingham-high-school-class-of-1980-45th-reunion/
LOCATION:Local 02045\, 2 A Street\, Hull\, MA
END:VEVENT
BEGIN:VEVENT
DTSTART;TZID=America/New_York:20250705T090000
DTEND;TZID=America/New_York:20250705T130000
DTSTAMP:20260424T044458
CREATED:20250630T140637Z
LAST-MODIFIED:20250630T140637Z
UID:65875-1751706000-1751720400@www.hinghamanchor.com
SUMMARY:Hingham Farmers Market
DESCRIPTION:Open for 9 to 1\, every Saturday until November 22\, Hingham Farmers Market has locally grown produce and creative foods products. Various artistic vendors with professionally handmade crafts provide some variety to the market each week.
URL:https://www.hinghamanchor.com/event/hingham-farmers-market-2/
LOCATION:95 Station St\, Hingham\, MA
END:VEVENT
BEGIN:VEVENT
DTSTART;TZID=America/New_York:20250705T090000
DTEND;TZID=America/New_York:20250705T130000
DTSTAMP:20260424T044458
CREATED:20250630T140637Z
LAST-MODIFIED:20250630T140637Z
UID:65875-1751706000-1751720400@www.hinghamanchor.com
SUMMARY:Hingham Farmers Market
DESCRIPTION:Open for 9 to 1\, every Saturday until November 22\, Hingham Farmers Market has locally grown produce and creative foods products. Various artistic vendors with professionally handmade crafts provide some variety to the market each week.
URL:https://www.hinghamanchor.com/event/hingham-farmers-market-2/
LOCATION:95 Station St\, Hingham\, MA
END:VEVENT
BEGIN:VEVENT
DTSTART;TZID=America/New_York:20250705T090000
DTEND;TZID=America/New_York:20250705T130000
DTSTAMP:20260424T044458
CREATED:20250630T140637Z
LAST-MODIFIED:20250630T140637Z
UID:65875-1751706000-1751720400@www.hinghamanchor.com
SUMMARY:Hingham Farmers Market
DESCRIPTION:Open for 9 to 1\, every Saturday until November 22\, Hingham Farmers Market has locally grown produce and creative foods products. Various artistic vendors with professionally handmade crafts provide some variety to the market each week.
URL:https://www.hinghamanchor.com/event/hingham-farmers-market-2/
LOCATION:95 Station St\, Hingham\, MA
END:VEVENT
BEGIN:VEVENT
DTSTART;TZID=America/New_York:20250705T090000
DTEND;TZID=America/New_York:20250705T130000
DTSTAMP:20260424T044458
CREATED:20250630T140637Z
LAST-MODIFIED:20250630T140637Z
UID:65875-1751706000-1751720400@www.hinghamanchor.com
SUMMARY:Hingham Farmers Market
DESCRIPTION:Open for 9 to 1\, every Saturday until November 22\, Hingham Farmers Market has locally grown produce and creative foods products. Various artistic vendors with professionally handmade crafts provide some variety to the market each week.
URL:https://www.hinghamanchor.com/event/hingham-farmers-market-2/
LOCATION:95 Station St\, Hingham\, MA
END:VEVENT
END:VCALENDAR