BEGIN:VCALENDAR
VERSION:2.0
PRODID:-//Hingham Anchor - ECPv6.15.15//NONSGML v1.0//EN
CALSCALE:GREGORIAN
METHOD:PUBLISH
X-WR-CALNAME:Hingham Anchor
X-ORIGINAL-URL:https://www.hinghamanchor.com
X-WR-CALDESC:Events for Hingham Anchor
REFRESH-INTERVAL;VALUE=DURATION:PT1H
X-Robots-Tag:noindex
X-PUBLISHED-TTL:PT1H
BEGIN:VTIMEZONE
TZID:America/New_York
BEGIN:DAYLIGHT
TZOFFSETFROM:-0500
TZOFFSETTO:-0400
TZNAME:EDT
DTSTART:20240310T070000
END:DAYLIGHT
BEGIN:STANDARD
TZOFFSETFROM:-0400
TZOFFSETTO:-0500
TZNAME:EST
DTSTART:20241103T060000
END:STANDARD
BEGIN:DAYLIGHT
TZOFFSETFROM:-0500
TZOFFSETTO:-0400
TZNAME:EDT
DTSTART:20250309T070000
END:DAYLIGHT
BEGIN:STANDARD
TZOFFSETFROM:-0400
TZOFFSETTO:-0500
TZNAME:EST
DTSTART:20251102T060000
END:STANDARD
BEGIN:DAYLIGHT
TZOFFSETFROM:-0500
TZOFFSETTO:-0400
TZNAME:EDT
DTSTART:20260308T070000
END:DAYLIGHT
BEGIN:STANDARD
TZOFFSETFROM:-0400
TZOFFSETTO:-0500
TZNAME:EST
DTSTART:20261101T060000
END:STANDARD
END:VTIMEZONE
BEGIN:VEVENT
DTSTART;TZID=America/New_York:20250605T163000
DTEND;TZID=America/New_York:20250605T180000
DTSTAMP:20260422T022857
CREATED:20250521T143625Z
LAST-MODIFIED:20250521T143625Z
UID:65318-1749141000-1749146400@www.hinghamanchor.com
SUMMARY:Boots & BBQ Summer Kick Off
DESCRIPTION:Allerton House Hingham’s professional summer kick-off event is Boots & BBQ themed! Come dressed in your best cowboy/cowgirl outfit for a chance to win the Best Dressed Contest!
URL:https://www.hinghamanchor.com/event/boots-bbq-summer-kick-off/
END:VEVENT
BEGIN:VEVENT
DTSTART;TZID=America/New_York:20250607T100000
DTEND;TZID=America/New_York:20250607T100000
DTSTAMP:20260422T022857
CREATED:20250522T162510Z
LAST-MODIFIED:20250522T162726Z
UID:65359-1749290400-1749290400@www.hinghamanchor.com
SUMMARY:Hingham High School Class of 2025 Graduation
DESCRIPTION:Seniors must arrive no later than 9:15 a.m. \nSenior Graduation Party: Time: 9:00 p.m. – 2:00 a.m.
URL:https://www.hinghamanchor.com/event/hingham-high-school-class-of-2025-graduation/
LOCATION:Hingham High School Turf Field
END:VEVENT
BEGIN:VEVENT
DTSTART;TZID=America/New_York:20250614T100000
DTEND;TZID=America/New_York:20250614T113000
DTSTAMP:20260422T022857
CREATED:20250610T192214Z
LAST-MODIFIED:20250610T192214Z
UID:65654-1749895200-1749900600@www.hinghamanchor.com
SUMMARY:Pride Walk at Wompatuck State Park
DESCRIPTION:Join the Southeast MA Adult Walking Club Pride Hike and Hingham Pride Project for a 1.75-mile walk with minimal elevation change along Triphammer Pond\, a peaceful and quiet corner of the park. Meet at the Visitor Center. Contact (857) 276-5365 for more information. This hike is being held in partnership with Hingham Pride Project.
URL:https://www.hinghamanchor.com/event/pride-walk-at-wompatuck-state-park/
LOCATION:Wompatuck State Park\, 204 Union Street\, Hingham\, MA
END:VEVENT
END:VCALENDAR