BEGIN:VCALENDAR
VERSION:2.0
PRODID:-//Hingham Anchor - ECPv6.15.15//NONSGML v1.0//EN
CALSCALE:GREGORIAN
METHOD:PUBLISH
X-WR-CALNAME:Hingham Anchor
X-ORIGINAL-URL:https://www.hinghamanchor.com
X-WR-CALDESC:Events for Hingham Anchor
REFRESH-INTERVAL;VALUE=DURATION:PT1H
X-Robots-Tag:noindex
X-PUBLISHED-TTL:PT1H
BEGIN:VTIMEZONE
TZID:America/New_York
BEGIN:DAYLIGHT
TZOFFSETFROM:-0500
TZOFFSETTO:-0400
TZNAME:EDT
DTSTART:20240310T070000
END:DAYLIGHT
BEGIN:STANDARD
TZOFFSETFROM:-0400
TZOFFSETTO:-0500
TZNAME:EST
DTSTART:20241103T060000
END:STANDARD
BEGIN:DAYLIGHT
TZOFFSETFROM:-0500
TZOFFSETTO:-0400
TZNAME:EDT
DTSTART:20250309T070000
END:DAYLIGHT
BEGIN:STANDARD
TZOFFSETFROM:-0400
TZOFFSETTO:-0500
TZNAME:EST
DTSTART:20251102T060000
END:STANDARD
BEGIN:DAYLIGHT
TZOFFSETFROM:-0500
TZOFFSETTO:-0400
TZNAME:EDT
DTSTART:20260308T070000
END:DAYLIGHT
BEGIN:STANDARD
TZOFFSETFROM:-0400
TZOFFSETTO:-0500
TZNAME:EST
DTSTART:20261101T060000
END:STANDARD
END:VTIMEZONE
BEGIN:VEVENT
DTSTART;TZID=America/New_York:20250502T093000
DTEND;TZID=America/New_York:20250502T093000
DTSTAMP:20260422T002120
CREATED:20250430T204017Z
LAST-MODIFIED:20250430T204112Z
UID:64898-1746178200-1746178200@www.hinghamanchor.com
SUMMARY:Kindergarten Coffee & Conversation - On Campus
DESCRIPTION:Please join us to learn why our engaging Kindergarten program promotes joyful learning everyday! The conversation will be led by Mary Beth Murphy\, Head of our Primary and Lower School. Tours will be offered following the program. Register today! Please note this event is for adults only. \nLocation: Library in the Mary MacPherson Primary and Lower School. Parking in the Hersey Lot (Main Parking Lot). Click here for the campus map.
URL:https://www.hinghamanchor.com/event/kindergarten-coffee-conversation-on-campus/
LOCATION:Derby Academy
END:VEVENT
BEGIN:VEVENT
DTSTART;TZID=America/New_York:20250503T100000
DTEND;TZID=America/New_York:20250503T100000
DTSTAMP:20260422T002120
CREATED:20250407T144840Z
LAST-MODIFIED:20250410T143344Z
UID:64438-1746266400-1746266400@www.hinghamanchor.com
SUMMARY:Save the Date! Hingham Land Conservation Trust Spring Walk
DESCRIPTION:HLCT’s guided Spring Walk will be on Sat.\, 5/3\, at 10 a.m. at Webb Memorial State Park in Weymouth. Led by Andrew Hultin\, Weymouth Conservation Administrator\, we will explore the three glacial drumlins and the marsh that form this peninsula in the Hingham Bay and keep an eye and ear out for migratory birds. \nAs our nation commemorates the 250th anniversary of the Revolutionary War\, we will also be joined by Commander Perkins from the Hingham Militia. In full uniform\, he will discuss the Battle of Grape Island\, the only hyper-local battle of the Revolutionary War\, as we look across the water to its site. Huzzah! \nThe walk is just over a mile long and includes uneven terrain; please plan accordingly and dress for the weather. We will gather around the kiosk in the front of the parking lot to begin\, and hope that you can join us.
URL:https://www.hinghamanchor.com/event/save-the-date-hingham-land-conservation-trust-spring-walk/
LOCATION:Webb Memorial State Park in Weymouth
END:VEVENT
BEGIN:VEVENT
DTSTART;TZID=America/New_York:20250506T093000
DTEND;TZID=America/New_York:20250506T093000
DTSTAMP:20260422T002120
CREATED:20250430T204506Z
LAST-MODIFIED:20250430T204740Z
UID:64900-1746523800-1746523800@www.hinghamanchor.com
SUMMARY:Take-a-Look Tuesdays at Derby Academy
DESCRIPTION:Join us for a personalized tour of Derby\, as well as a chance to peek into our classrooms and speak with an Admission representative. \nCheck-in at the Admission Office in the Sylvester Building. Parking is available in the Abner Lincoln Lot/Admission Visitor Parking (click here for our campus map.) \nPlease note this event is for adults only. \nRegistration is encouraged. If Tuesdays do not work for you\, please contact the Admission Office at (781)749-0746\, ext 146
URL:https://www.hinghamanchor.com/event/take-a-look-tuesdays-at-derby-academy/
LOCATION:Derby Academy
END:VEVENT
BEGIN:VEVENT
DTSTART;TZID=America/New_York:20250506T093000
DTEND;TZID=America/New_York:20250506T093000
DTSTAMP:20260422T002120
CREATED:20250430T204506Z
LAST-MODIFIED:20250430T204740Z
UID:64900-1746523800-1746523800@www.hinghamanchor.com
SUMMARY:Take-a-Look Tuesdays at Derby Academy
DESCRIPTION:Join us for a personalized tour of Derby\, as well as a chance to peek into our classrooms and speak with an Admission representative. \nCheck-in at the Admission Office in the Sylvester Building. Parking is available in the Abner Lincoln Lot/Admission Visitor Parking (click here for our campus map.) \nPlease note this event is for adults only. \nRegistration is encouraged. If Tuesdays do not work for you\, please contact the Admission Office at (781)749-0746\, ext 146
URL:https://www.hinghamanchor.com/event/take-a-look-tuesdays-at-derby-academy/
LOCATION:Derby Academy
END:VEVENT
BEGIN:VEVENT
DTSTART;VALUE=DATE:20250517
DTEND;VALUE=DATE:20250518
DTSTAMP:20260422T002120
CREATED:20250430T203543Z
LAST-MODIFIED:20250430T203543Z
UID:64896-1747440000-1747526399@www.hinghamanchor.com
SUMMARY:Springham 2025!
DESCRIPTION:Live Music\, family activities\, drinks from Vitamin Sea Brewing\, and the opportunity to explore our Visitor Center and Museum Shop. Join us as we celebrate SPRINGHAM 2025! \nJoin popular local performers Tequila Tim and Thirsty Boots for an afternoon of music and community. FREE. Fun for all ages. In partnership with the Hingham Downtown Association and Hingham Anchor
URL:https://www.hinghamanchor.com/event/springham-2025/
LOCATION:Downtown Hingham
END:VEVENT
BEGIN:VEVENT
DTSTART;TZID=America/New_York:20250506T093000
DTEND;TZID=America/New_York:20250506T093000
DTSTAMP:20260422T002120
CREATED:20250430T204506Z
LAST-MODIFIED:20250430T204740Z
UID:64900-1746523800-1746523800@www.hinghamanchor.com
SUMMARY:Take-a-Look Tuesdays at Derby Academy
DESCRIPTION:Join us for a personalized tour of Derby\, as well as a chance to peek into our classrooms and speak with an Admission representative. \nCheck-in at the Admission Office in the Sylvester Building. Parking is available in the Abner Lincoln Lot/Admission Visitor Parking (click here for our campus map.) \nPlease note this event is for adults only. \nRegistration is encouraged. If Tuesdays do not work for you\, please contact the Admission Office at (781)749-0746\, ext 146
URL:https://www.hinghamanchor.com/event/take-a-look-tuesdays-at-derby-academy/
LOCATION:Derby Academy
END:VEVENT
BEGIN:VEVENT
DTSTART;TZID=America/New_York:20250506T093000
DTEND;TZID=America/New_York:20250506T093000
DTSTAMP:20260422T002120
CREATED:20250430T204506Z
LAST-MODIFIED:20250430T204740Z
UID:64900-1746523800-1746523800@www.hinghamanchor.com
SUMMARY:Take-a-Look Tuesdays at Derby Academy
DESCRIPTION:Join us for a personalized tour of Derby\, as well as a chance to peek into our classrooms and speak with an Admission representative. \nCheck-in at the Admission Office in the Sylvester Building. Parking is available in the Abner Lincoln Lot/Admission Visitor Parking (click here for our campus map.) \nPlease note this event is for adults only. \nRegistration is encouraged. If Tuesdays do not work for you\, please contact the Admission Office at (781)749-0746\, ext 146
URL:https://www.hinghamanchor.com/event/take-a-look-tuesdays-at-derby-academy/
LOCATION:Derby Academy
END:VEVENT
BEGIN:VEVENT
DTSTART;TZID=America/New_York:20250531T100000
DTEND;TZID=America/New_York:20250531T140000
DTSTAMP:20260422T002120
CREATED:20250414T141432Z
LAST-MODIFIED:20250414T141432Z
UID:64571-1748685600-1748700000@www.hinghamanchor.com
SUMMARY:Wilder Fair!
DESCRIPTION:If you’re curious about Wilder Memorial Nursery School\, be sure to stop by the Annual Wilder Fair on Saturday\, May 31 from 10am – 2pm. It’s open to the full community and features horse rides\, bounce houses\, face painting\, food trucks and more!
URL:https://www.hinghamanchor.com/event/wilder-fair/
LOCATION:Wilder Memorial Nursery School
END:VEVENT
END:VCALENDAR