BEGIN:VCALENDAR
VERSION:2.0
PRODID:-//Hingham Anchor - ECPv6.15.15//NONSGML v1.0//EN
CALSCALE:GREGORIAN
METHOD:PUBLISH
X-ORIGINAL-URL:https://www.hinghamanchor.com
X-WR-CALDESC:Events for Hingham Anchor
REFRESH-INTERVAL;VALUE=DURATION:PT1H
X-Robots-Tag:noindex
X-PUBLISHED-TTL:PT1H
BEGIN:VTIMEZONE
TZID:America/New_York
BEGIN:DAYLIGHT
TZOFFSETFROM:-0500
TZOFFSETTO:-0400
TZNAME:EDT
DTSTART:20230312T070000
END:DAYLIGHT
BEGIN:STANDARD
TZOFFSETFROM:-0400
TZOFFSETTO:-0500
TZNAME:EST
DTSTART:20231105T060000
END:STANDARD
BEGIN:DAYLIGHT
TZOFFSETFROM:-0500
TZOFFSETTO:-0400
TZNAME:EDT
DTSTART:20240310T070000
END:DAYLIGHT
BEGIN:STANDARD
TZOFFSETFROM:-0400
TZOFFSETTO:-0500
TZNAME:EST
DTSTART:20241103T060000
END:STANDARD
BEGIN:DAYLIGHT
TZOFFSETFROM:-0500
TZOFFSETTO:-0400
TZNAME:EDT
DTSTART:20250309T070000
END:DAYLIGHT
BEGIN:STANDARD
TZOFFSETFROM:-0400
TZOFFSETTO:-0500
TZNAME:EST
DTSTART:20251102T060000
END:STANDARD
BEGIN:DAYLIGHT
TZOFFSETFROM:-0500
TZOFFSETTO:-0400
TZNAME:EDT
DTSTART:20260308T070000
END:DAYLIGHT
BEGIN:STANDARD
TZOFFSETFROM:-0400
TZOFFSETTO:-0500
TZNAME:EST
DTSTART:20261101T060000
END:STANDARD
END:VTIMEZONE
BEGIN:VEVENT
DTSTART;VALUE=DATE:20240110
DTEND;VALUE=DATE:20240111
DTSTAMP:20260421T033029
CREATED:20231228T184856Z
LAST-MODIFIED:20231228T184856Z
UID:56347-1704844800-1704931199@www.hinghamanchor.com
SUMMARY:The Gospel of the Gospels\, with Dr. Regina Boisclair. A 4-part Bible study
DESCRIPTION:
URL:https://www.hinghamanchor.com/event/the-gospel-of-the-gospels-with-dr-regina-boisclair-a-4-part-bible-study/
END:VEVENT
BEGIN:VEVENT
DTSTART;VALUE=DATE:20240110
DTEND;VALUE=DATE:20240111
DTSTAMP:20260421T033029
CREATED:20231228T184856Z
LAST-MODIFIED:20231228T184856Z
UID:56347-1704844800-1704931199@www.hinghamanchor.com
SUMMARY:The Gospel of the Gospels\, with Dr. Regina Boisclair. A 4-part Bible study
DESCRIPTION:
URL:https://www.hinghamanchor.com/event/the-gospel-of-the-gospels-with-dr-regina-boisclair-a-4-part-bible-study/
END:VEVENT
BEGIN:VEVENT
DTSTART;TZID=America/New_York:20250108T080000
DTEND;TZID=America/New_York:20250108T170000
DTSTAMP:20260421T033029
CREATED:20250108T015018Z
LAST-MODIFIED:20250617T141929Z
UID:62999-1736323200-1736355600@www.hinghamanchor.com
SUMMARY:Bible Study\, "Jeremiah\," with Dr. Regina Boisclair.
DESCRIPTION:Wednesdays\, January 8-29 (in person): Bible Study\, “Jeremiah\,” with Dr. Regina Boisclair. Suggested donation $50 for the 4 sessions. Registration is required.*
URL:https://www.hinghamanchor.com/event/bible-study-jeremiah-with-dr-regina-boisclair/
LOCATION:Glastonbury Abbey
END:VEVENT
BEGIN:VEVENT
DTSTART;VALUE=DATE:20240110
DTEND;VALUE=DATE:20240111
DTSTAMP:20260421T033029
CREATED:20231228T184856Z
LAST-MODIFIED:20231228T184856Z
UID:56347-1704844800-1704931199@www.hinghamanchor.com
SUMMARY:The Gospel of the Gospels\, with Dr. Regina Boisclair. A 4-part Bible study
DESCRIPTION:
URL:https://www.hinghamanchor.com/event/the-gospel-of-the-gospels-with-dr-regina-boisclair-a-4-part-bible-study/
END:VEVENT
BEGIN:VEVENT
DTSTART;VALUE=DATE:20250120
DTEND;VALUE=DATE:20250121
DTSTAMP:20260421T033029
CREATED:20250108T021756Z
LAST-MODIFIED:20250108T021756Z
UID:63006-1737331200-1737417599@www.hinghamanchor.com
SUMMARY:A New Year Guided Retreat\, "Loving Our Becoming"
DESCRIPTION:A New Year Guided Retreat\, “Loving Our Becoming” Facilitated by: Patricia Laliberte\, Oblate OSB and Denise Patts\, Oblate OSB. Through creative methods\, prayer and meditation we will explore the questions Where have I been? Where am I Going? Spend this time with scissors\, paste and paper as you create a Life Map. Let the prayer time at Glastonbury help you unfold a view for your future. In person only. Suggested donation $450 includes 4-nights’ accommodation and meals. Please register by Jan 15th.*
URL:https://www.hinghamanchor.com/event/a-new-year-guided-retreat-loving-our-becoming/
LOCATION:Glastonbury Abbey
END:VEVENT
BEGIN:VEVENT
DTSTART;TZID=America/New_York:20250121T080000
DTEND;TZID=America/New_York:20250121T170000
DTSTAMP:20260421T033029
CREATED:20250108T022700Z
LAST-MODIFIED:20250108T022700Z
UID:63008-1737446400-1737478800@www.hinghamanchor.com
SUMMARY:"From Languishing to Flourishing.." with John Sheff
DESCRIPTION:January 21\, 28 & February 11: “From Languishing to Flourishing..” with John Sheff. Do you wake up ready to start your day or would you rather go back to sleep? Do you have a sense of purpose\, or do you find much of your day to feel meaningless? Based on your answers\, you already may have an idea of where you might be on the languishing-flourishing continuum. Presented in person and online (registration required).*
URL:https://www.hinghamanchor.com/event/from-languishing-to-flourishing-with-john-sheff/
LOCATION:Glastonbury Abbey
END:VEVENT
BEGIN:VEVENT
DTSTART;VALUE=DATE:20240110
DTEND;VALUE=DATE:20240111
DTSTAMP:20260421T033029
CREATED:20231228T184856Z
LAST-MODIFIED:20231228T184856Z
UID:56347-1704844800-1704931199@www.hinghamanchor.com
SUMMARY:The Gospel of the Gospels\, with Dr. Regina Boisclair. A 4-part Bible study
DESCRIPTION:
URL:https://www.hinghamanchor.com/event/the-gospel-of-the-gospels-with-dr-regina-boisclair-a-4-part-bible-study/
END:VEVENT
BEGIN:VEVENT
DTSTART;TZID=America/New_York:20250126T150000
DTEND;TZID=America/New_York:20250126T160000
DTSTAMP:20260421T033029
CREATED:20250115T151331Z
LAST-MODIFIED:20250115T151331Z
UID:63091-1737903600-1737907200@www.hinghamanchor.com
SUMMARY:Revisiting the American Revolution: Hingham’s Revolutionary Canteens
DESCRIPTION:Lecture: Hingham’s Revolutionary Canteens\n$30.00 \n\n1/26/2025 @ 3PM\nSpeakers will be live at the Hingham Heritage Museum and all programs will be offered via zoom webinar as well \nJoel Bohy \nJoel Bohy is the director of Historic Arms & Militaria at Bruneau and Co. Auctioneers and a frequent appraiser of Arms & Militaria on the PBS series Antiques Roadshow\, an active member of the American Society of Arms Collectors\, the Company of Military Historians\, The Colonial Society of Massachusetts\, an instructor for Advanced Metal Detecting for the Archeologist\, and an advisory board member of American Veterans Archaeological Recovery. Growing up in Concord\, Massachusetts helped lead to his passion for historic arms & militaria\, conflict archaeology\, historic arms\, and his research into Hingham’s historic Revolutionary War canteens.
URL:https://www.hinghamanchor.com/event/revisiting-the-american-revolution-hinghams-revolutionary-canteens/
LOCATION:Hingham Heritage Museum
END:VEVENT
BEGIN:VEVENT
DTSTART;TZID=America/New_York:20250121T080000
DTEND;TZID=America/New_York:20250121T170000
DTSTAMP:20260421T033029
CREATED:20250108T022700Z
LAST-MODIFIED:20250108T022700Z
UID:63008-1737446400-1737478800@www.hinghamanchor.com
SUMMARY:"From Languishing to Flourishing.." with John Sheff
DESCRIPTION:January 21\, 28 & February 11: “From Languishing to Flourishing..” with John Sheff. Do you wake up ready to start your day or would you rather go back to sleep? Do you have a sense of purpose\, or do you find much of your day to feel meaningless? Based on your answers\, you already may have an idea of where you might be on the languishing-flourishing continuum. Presented in person and online (registration required).*
URL:https://www.hinghamanchor.com/event/from-languishing-to-flourishing-with-john-sheff/
LOCATION:Glastonbury Abbey
END:VEVENT
BEGIN:VEVENT
DTSTART;VALUE=DATE:20240110
DTEND;VALUE=DATE:20240111
DTSTAMP:20260421T033029
CREATED:20231228T184856Z
LAST-MODIFIED:20231228T184856Z
UID:56347-1704844800-1704931199@www.hinghamanchor.com
SUMMARY:The Gospel of the Gospels\, with Dr. Regina Boisclair. A 4-part Bible study
DESCRIPTION:
URL:https://www.hinghamanchor.com/event/the-gospel-of-the-gospels-with-dr-regina-boisclair-a-4-part-bible-study/
END:VEVENT
BEGIN:VEVENT
DTSTART;TZID=America/New_York:20250129T190000
DTEND;TZID=America/New_York:20250129T190000
DTSTAMP:20260421T033029
CREATED:20250123T194749Z
LAST-MODIFIED:20250123T194813Z
UID:63243-1738177200-1738177200@www.hinghamanchor.com
SUMMARY:LWV Hingham Public Issues Forum with Board of Assessors
DESCRIPTION:The LWV Hingham invites the public to join our members to learn from our elected officials who manage the value of property in town to determine real estate taxes. Board of Assessors Chair Joshua Ross will share what they do\, what they have accomplished the past few years and their goals/objectives for the next few years. \n7:00 pm at the Hingham Public Library\, Whiton Room.
URL:https://www.hinghamanchor.com/event/lwv-hingham-public-issues-forum-with-board-of-assessors/
LOCATION:Hingham Public Library\, Whiton Room
END:VEVENT
END:VCALENDAR