BEGIN:VCALENDAR
VERSION:2.0
PRODID:-//Hingham Anchor - ECPv6.15.15//NONSGML v1.0//EN
CALSCALE:GREGORIAN
METHOD:PUBLISH
X-ORIGINAL-URL:https://www.hinghamanchor.com
X-WR-CALDESC:Events for Hingham Anchor
REFRESH-INTERVAL;VALUE=DURATION:PT1H
X-Robots-Tag:noindex
X-PUBLISHED-TTL:PT1H
BEGIN:VTIMEZONE
TZID:America/New_York
BEGIN:DAYLIGHT
TZOFFSETFROM:-0500
TZOFFSETTO:-0400
TZNAME:EDT
DTSTART:20230312T070000
END:DAYLIGHT
BEGIN:STANDARD
TZOFFSETFROM:-0400
TZOFFSETTO:-0500
TZNAME:EST
DTSTART:20231105T060000
END:STANDARD
BEGIN:DAYLIGHT
TZOFFSETFROM:-0500
TZOFFSETTO:-0400
TZNAME:EDT
DTSTART:20240310T070000
END:DAYLIGHT
BEGIN:STANDARD
TZOFFSETFROM:-0400
TZOFFSETTO:-0500
TZNAME:EST
DTSTART:20241103T060000
END:STANDARD
BEGIN:DAYLIGHT
TZOFFSETFROM:-0500
TZOFFSETTO:-0400
TZNAME:EDT
DTSTART:20250309T070000
END:DAYLIGHT
BEGIN:STANDARD
TZOFFSETFROM:-0400
TZOFFSETTO:-0500
TZNAME:EST
DTSTART:20251102T060000
END:STANDARD
END:VTIMEZONE
BEGIN:VEVENT
DTSTART;TZID=America/New_York:20240924T093000
DTEND;TZID=America/New_York:20240924T113000
DTSTAMP:20260421T000925
CREATED:20240818T010459Z
LAST-MODIFIED:20240818T010459Z
UID:60937-1727170200-1727177400@www.hinghamanchor.com
SUMMARY:The Artist's Way with Kay Trask
DESCRIPTION:We are all creative!  Develop and unleash your creativity by joining Kay Trask and a small group of your peers for a 12 week program exploring your creativity based on the classic bestseller\, The Artist’s Way\, A Spiritual Path to Higher Creativity by Julia Cameron. \nThe process will challenge us to look closely at ourselves\, in order to explore our relationship with our own creativity.  In addition to the weekly meetings\, the program requires 4-5 hours each week in order to accomplish the required activities. \n“You have such an easy and gifted spirit for facilitating the meetings that we all just followed your lead. Through your leadership and words of wisdom and encouragement\, we have tried and accomplished new things and brought back old things that we hadn’t thought possible. Thank you for that!”     Tricia\,  Fall\, 2023 \n“With Kay’s seasoned leadership over the 12weeks\, we shared our insights \, struggles and breakthroughs\, helping each other along the way. As a result\, I have met all my recent artistic goals. Bottom line? It was the best thing I have done for myself for a long time\, and I can’t thank Kay Trask or Glastonbury Abbey enough.”    Jan\,  Fall \, 2023 \nThis program will be presented in person only. Space is limited. We encourage everyone to register online. \nYou will receive an email from Glastonbury Abbey to confirm your registration within 24 hours. If you do not receive this email\, please contact Denise at 781-749-2155 ext. 300.
URL:https://www.hinghamanchor.com/event/the-artists-way-with-kay-trask/
END:VEVENT
BEGIN:VEVENT
DTSTART;VALUE=DATE:20240110
DTEND;VALUE=DATE:20240111
DTSTAMP:20260421T000925
CREATED:20231228T184856Z
LAST-MODIFIED:20231228T184856Z
UID:56347-1704844800-1704931199@www.hinghamanchor.com
SUMMARY:The Gospel of the Gospels\, with Dr. Regina Boisclair. A 4-part Bible study
DESCRIPTION:
URL:https://www.hinghamanchor.com/event/the-gospel-of-the-gospels-with-dr-regina-boisclair-a-4-part-bible-study/
END:VEVENT
BEGIN:VEVENT
DTSTART;TZID=America/New_York:20241106T103000
DTEND;TZID=America/New_York:20241106T103000
DTSTAMP:20260421T000925
CREATED:20241029T145337Z
LAST-MODIFIED:20241029T145358Z
UID:62176-1730889000-1730889000@www.hinghamanchor.com
SUMMARY:(In Person): 3-part Bible Study on Isaiah with Dr. Regina Boisclair
DESCRIPTION:Wednesday\, November 6\, 13 & 20\, 10:30 a.m. (In Person): 3-part Bible Study on Isaiah with Dr. Regina Boisclair. Registration is required:  https://gacc.retreatportal.com
URL:https://www.hinghamanchor.com/event/in-person-3-part-bible-study-on-isaiah-with-dr-regina-boisclair/
LOCATION:Glastonbury Abbey Institute\, 16 Hull St\, Hingham\, United States
END:VEVENT
BEGIN:VEVENT
DTSTART;TZID=America/New_York:20241108T160000
DTEND;TZID=America/New_York:20241108T190000
DTSTAMP:20260421T000925
CREATED:20241029T145738Z
LAST-MODIFIED:20241029T145738Z
UID:62180-1731081600-1731092400@www.hinghamanchor.com
SUMMARY:Glastonbury Abbey’s 10th Annual Art Fair
DESCRIPTION:Friday\, November 8\, 4-7 PM and Saturday\, November 9\, 9 AM – 3 PM (In Person): Glastonbury Abbey’s 10th Annual Art Fair at the Morcone Conference Center\, 20 Hull Street\, Hingham. Event is free and all are welcome!
URL:https://www.hinghamanchor.com/event/glastonbury-abbeys-10th-annual-art-fair/
LOCATION:Morcone Conference Center\, 20 Hull Street\, Hingham\, MA\, United States
END:VEVENT
BEGIN:VEVENT
DTSTART;TZID=America/New_York:20241108T160000
DTEND;TZID=America/New_York:20241108T190000
DTSTAMP:20260421T000925
CREATED:20241029T145738Z
LAST-MODIFIED:20241029T145738Z
UID:62180-1731081600-1731092400@www.hinghamanchor.com
SUMMARY:Glastonbury Abbey’s 10th Annual Art Fair
DESCRIPTION:Friday\, November 8\, 4-7 PM and Saturday\, November 9\, 9 AM – 3 PM (In Person): Glastonbury Abbey’s 10th Annual Art Fair at the Morcone Conference Center\, 20 Hull Street\, Hingham. Event is free and all are welcome!
URL:https://www.hinghamanchor.com/event/glastonbury-abbeys-10th-annual-art-fair/
LOCATION:Morcone Conference Center\, 20 Hull Street\, Hingham\, MA\, United States
END:VEVENT
BEGIN:VEVENT
DTSTART;TZID=America/New_York:20240924T093000
DTEND;TZID=America/New_York:20240924T113000
DTSTAMP:20260421T000925
CREATED:20240818T010459Z
LAST-MODIFIED:20240818T010459Z
UID:60937-1727170200-1727177400@www.hinghamanchor.com
SUMMARY:The Artist's Way with Kay Trask
DESCRIPTION:We are all creative!  Develop and unleash your creativity by joining Kay Trask and a small group of your peers for a 12 week program exploring your creativity based on the classic bestseller\, The Artist’s Way\, A Spiritual Path to Higher Creativity by Julia Cameron. \nThe process will challenge us to look closely at ourselves\, in order to explore our relationship with our own creativity.  In addition to the weekly meetings\, the program requires 4-5 hours each week in order to accomplish the required activities. \n“You have such an easy and gifted spirit for facilitating the meetings that we all just followed your lead. Through your leadership and words of wisdom and encouragement\, we have tried and accomplished new things and brought back old things that we hadn’t thought possible. Thank you for that!”     Tricia\,  Fall\, 2023 \n“With Kay’s seasoned leadership over the 12weeks\, we shared our insights \, struggles and breakthroughs\, helping each other along the way. As a result\, I have met all my recent artistic goals. Bottom line? It was the best thing I have done for myself for a long time\, and I can’t thank Kay Trask or Glastonbury Abbey enough.”    Jan\,  Fall \, 2023 \nThis program will be presented in person only. Space is limited. We encourage everyone to register online. \nYou will receive an email from Glastonbury Abbey to confirm your registration within 24 hours. If you do not receive this email\, please contact Denise at 781-749-2155 ext. 300.
URL:https://www.hinghamanchor.com/event/the-artists-way-with-kay-trask/
END:VEVENT
BEGIN:VEVENT
DTSTART;VALUE=DATE:20240110
DTEND;VALUE=DATE:20240111
DTSTAMP:20260421T000925
CREATED:20231228T184856Z
LAST-MODIFIED:20231228T184856Z
UID:56347-1704844800-1704931199@www.hinghamanchor.com
SUMMARY:The Gospel of the Gospels\, with Dr. Regina Boisclair. A 4-part Bible study
DESCRIPTION:
URL:https://www.hinghamanchor.com/event/the-gospel-of-the-gospels-with-dr-regina-boisclair-a-4-part-bible-study/
END:VEVENT
BEGIN:VEVENT
DTSTART;TZID=America/New_York:20241106T103000
DTEND;TZID=America/New_York:20241106T103000
DTSTAMP:20260421T000925
CREATED:20241029T145337Z
LAST-MODIFIED:20241029T145358Z
UID:62176-1730889000-1730889000@www.hinghamanchor.com
SUMMARY:(In Person): 3-part Bible Study on Isaiah with Dr. Regina Boisclair
DESCRIPTION:Wednesday\, November 6\, 13 & 20\, 10:30 a.m. (In Person): 3-part Bible Study on Isaiah with Dr. Regina Boisclair. Registration is required:  https://gacc.retreatportal.com
URL:https://www.hinghamanchor.com/event/in-person-3-part-bible-study-on-isaiah-with-dr-regina-boisclair/
LOCATION:Glastonbury Abbey Institute\, 16 Hull St\, Hingham\, United States
END:VEVENT
BEGIN:VEVENT
DTSTART;TZID=America/New_York:20240924T093000
DTEND;TZID=America/New_York:20240924T113000
DTSTAMP:20260421T000925
CREATED:20240818T010459Z
LAST-MODIFIED:20240818T010459Z
UID:60937-1727170200-1727177400@www.hinghamanchor.com
SUMMARY:The Artist's Way with Kay Trask
DESCRIPTION:We are all creative!  Develop and unleash your creativity by joining Kay Trask and a small group of your peers for a 12 week program exploring your creativity based on the classic bestseller\, The Artist’s Way\, A Spiritual Path to Higher Creativity by Julia Cameron. \nThe process will challenge us to look closely at ourselves\, in order to explore our relationship with our own creativity.  In addition to the weekly meetings\, the program requires 4-5 hours each week in order to accomplish the required activities. \n“You have such an easy and gifted spirit for facilitating the meetings that we all just followed your lead. Through your leadership and words of wisdom and encouragement\, we have tried and accomplished new things and brought back old things that we hadn’t thought possible. Thank you for that!”     Tricia\,  Fall\, 2023 \n“With Kay’s seasoned leadership over the 12weeks\, we shared our insights \, struggles and breakthroughs\, helping each other along the way. As a result\, I have met all my recent artistic goals. Bottom line? It was the best thing I have done for myself for a long time\, and I can’t thank Kay Trask or Glastonbury Abbey enough.”    Jan\,  Fall \, 2023 \nThis program will be presented in person only. Space is limited. We encourage everyone to register online. \nYou will receive an email from Glastonbury Abbey to confirm your registration within 24 hours. If you do not receive this email\, please contact Denise at 781-749-2155 ext. 300.
URL:https://www.hinghamanchor.com/event/the-artists-way-with-kay-trask/
END:VEVENT
BEGIN:VEVENT
DTSTART;VALUE=DATE:20240110
DTEND;VALUE=DATE:20240111
DTSTAMP:20260421T000925
CREATED:20231228T184856Z
LAST-MODIFIED:20231228T184856Z
UID:56347-1704844800-1704931199@www.hinghamanchor.com
SUMMARY:The Gospel of the Gospels\, with Dr. Regina Boisclair. A 4-part Bible study
DESCRIPTION:
URL:https://www.hinghamanchor.com/event/the-gospel-of-the-gospels-with-dr-regina-boisclair-a-4-part-bible-study/
END:VEVENT
BEGIN:VEVENT
DTSTART;TZID=America/New_York:20241106T103000
DTEND;TZID=America/New_York:20241106T103000
DTSTAMP:20260421T000925
CREATED:20241029T145337Z
LAST-MODIFIED:20241029T145358Z
UID:62176-1730889000-1730889000@www.hinghamanchor.com
SUMMARY:(In Person): 3-part Bible Study on Isaiah with Dr. Regina Boisclair
DESCRIPTION:Wednesday\, November 6\, 13 & 20\, 10:30 a.m. (In Person): 3-part Bible Study on Isaiah with Dr. Regina Boisclair. Registration is required:  https://gacc.retreatportal.com
URL:https://www.hinghamanchor.com/event/in-person-3-part-bible-study-on-isaiah-with-dr-regina-boisclair/
LOCATION:Glastonbury Abbey Institute\, 16 Hull St\, Hingham\, United States
END:VEVENT
BEGIN:VEVENT
DTSTART;TZID=America/New_York:20240924T093000
DTEND;TZID=America/New_York:20240924T113000
DTSTAMP:20260421T000925
CREATED:20240818T010459Z
LAST-MODIFIED:20240818T010459Z
UID:60937-1727170200-1727177400@www.hinghamanchor.com
SUMMARY:The Artist's Way with Kay Trask
DESCRIPTION:We are all creative!  Develop and unleash your creativity by joining Kay Trask and a small group of your peers for a 12 week program exploring your creativity based on the classic bestseller\, The Artist’s Way\, A Spiritual Path to Higher Creativity by Julia Cameron. \nThe process will challenge us to look closely at ourselves\, in order to explore our relationship with our own creativity.  In addition to the weekly meetings\, the program requires 4-5 hours each week in order to accomplish the required activities. \n“You have such an easy and gifted spirit for facilitating the meetings that we all just followed your lead. Through your leadership and words of wisdom and encouragement\, we have tried and accomplished new things and brought back old things that we hadn’t thought possible. Thank you for that!”     Tricia\,  Fall\, 2023 \n“With Kay’s seasoned leadership over the 12weeks\, we shared our insights \, struggles and breakthroughs\, helping each other along the way. As a result\, I have met all my recent artistic goals. Bottom line? It was the best thing I have done for myself for a long time\, and I can’t thank Kay Trask or Glastonbury Abbey enough.”    Jan\,  Fall \, 2023 \nThis program will be presented in person only. Space is limited. We encourage everyone to register online. \nYou will receive an email from Glastonbury Abbey to confirm your registration within 24 hours. If you do not receive this email\, please contact Denise at 781-749-2155 ext. 300.
URL:https://www.hinghamanchor.com/event/the-artists-way-with-kay-trask/
END:VEVENT
BEGIN:VEVENT
DTSTART;VALUE=DATE:20240110
DTEND;VALUE=DATE:20240111
DTSTAMP:20260421T000925
CREATED:20231228T184856Z
LAST-MODIFIED:20231228T184856Z
UID:56347-1704844800-1704931199@www.hinghamanchor.com
SUMMARY:The Gospel of the Gospels\, with Dr. Regina Boisclair. A 4-part Bible study
DESCRIPTION:
URL:https://www.hinghamanchor.com/event/the-gospel-of-the-gospels-with-dr-regina-boisclair-a-4-part-bible-study/
END:VEVENT
END:VCALENDAR